BEGIN:VCALENDAR
VERSION:2.0
PRODID:-//The Museum of Jewish Montreal - ECPv6.15.20//NONSGML v1.0//EN
CALSCALE:GREGORIAN
METHOD:PUBLISH
X-WR-CALNAME:The Museum of Jewish Montreal
X-ORIGINAL-URL:https://museemontrealjuif.ca
X-WR-CALDESC:Events for The Museum of Jewish Montreal
REFRESH-INTERVAL;VALUE=DURATION:PT1H
X-Robots-Tag:noindex
X-PUBLISHED-TTL:PT1H
BEGIN:VTIMEZONE
TZID:UTC
BEGIN:STANDARD
TZOFFSETFROM:+0000
TZOFFSETTO:+0000
TZNAME:UTC
DTSTART:20240101T000000
END:STANDARD
END:VTIMEZONE
BEGIN:VEVENT
DTSTART;TZID=UTC:20251207T110000
DTEND;TZID=UTC:20251207T170000
DTSTAMP:20260424T120357
CREATED:20251118T185241Z
LAST-MODIFIED:20251203T220615Z
UID:44002-1765105200-1765126800@museemontrealjuif.ca
SUMMARY:Hanukkah Market
DESCRIPTION:Our Hanukkah Market is coming back! On Sunday December 7th\, come by the museum and let us help you take care of all your holiday shopping needs. \nFeaturing an array of local makers\, our one-day market will also feature live music by klezmer ensemble Yene Velt (from 1 to 2 pm) as well as festive beverages and snacks to get you in the holiday spirit\, supplied by our friends at Chez Greenberg and Bernie Beigne! \nArtisans: Chez Greenberg\, Mile End Soap and Candle Supply\, A Fine Messer\, Alissa Sklar Ceramics\, Earth’s Abundance Apothecary\, Ava Berkson\, Fleuriste Monarque\, Baegel Babe\, Mogli\, Gwendolyn Owens\, Daniel Feldstein Artisan Ebéniste\, Sara Klainer\, Becca Love\, Bruno Andrus Glassblower\, Sarah Penina\, V Fleising Ceramics\, Mika Benesh Jewellery\, Talia Tarot Tea\, RockeTin Robin\, Laura Douglas \nPlease note that our vendors will be handling payment for their goods individually. While most artisans are equipped to accept payment by card or Interact e-transfer\, we recommend bringing cash as well\, if possible. \nEntry: FREEHours: 11am to 5pmAddress: 5220 St. Laurent BoulevardNearest Public Transit: Laurier Metro\, Bus 55 \nAccessibility: Please note that the upper levels of our building are not accessible to visitors with limited mobility. Our market will take place on the ground floor and second floors. Our main entrance is accessible via ramp. \nWe thank the Consulate General of the Republic of Germany in Montreal and the Segal Centre for their support and partnership.
URL:https://museemontrealjuif.ca/event/hanukkah-market-2025/
LOCATION:Musée du Montréal juif | Museum of Jewish Montreal\, 5220 St. Laurent blvd.\, Montréal\, Québec\, H2T 1S1\, Canada
ATTACH;FMTTYPE=image/png:https://museemontrealjuif.ca/wp-content/uploads/2025/11/Hanukkah-Market-2025-1920x1080-1.png
END:VEVENT
BEGIN:VEVENT
DTSTART;TZID=UTC:20251214T130000
DTEND;TZID=UTC:20251214T150000
DTSTAMP:20260424T120357
CREATED:20251121T203813Z
LAST-MODIFIED:20251121T203813Z
UID:44008-1765717200-1765724400@museemontrealjuif.ca
SUMMARY:Candle Making Workshop
DESCRIPTION:Want to feel cozy and prepare for Hanukkah festivities at the same time? \nOn Sunday December 14th\, join local artisan Sheryl Shore of Mile-End Soap & Candle Supply for an afternoon of beeswax candle dipping in the spirit of Hanukkah. Guests will be guided through standard candle dipping methods as they each create 8 individual shamash candles for their hanukkiah lighting rituals. During the workshop\, Shore will also provide context on candle-making\, the life of bees and wax production\, and her personal experiences with the craft. No prior experience required! \nParticipants do not need to celebrate Hanukkah\, and alternate candle-making options are available: candle sticks\, birthday candles\, etc. are encouraged as well! \nTickets are $25. All necessary materials provided. Due to limited capacity\, advanced registration is encouraged. Click here to reserve your spot. \nAbout Sheryl: \nLured by the intoxicating aroma of beeswax\, Sheryl Shore began dipping candles 25 years ago. Shore is committed to valourizing the work of bees who create the wax\, and brings a modern take on the ancient craft. Shore grew up with a very strong cultural Jewish identity\, and the nuanced relationship she has with her traditional background has led her to create candles that may contribute to peaceful contemplation. \nAccessibility: Please note that the upper floors of our building are not accessible to visitors with limited mobility. This workshop will take place on the ground floor\, accessible via ramp from the main entrance. 
URL:https://museemontrealjuif.ca/event/candle-making-workshop/
LOCATION:Musée du Montréal juif | Museum of Jewish Montreal\, 5220 St. Laurent blvd.\, Montréal\, Québec\, H2T 1S1\, Canada
ATTACH;FMTTYPE=image/png:https://museemontrealjuif.ca/wp-content/uploads/2025/11/Candle-Making-Workshop-with-Sheryl-Shore-FB-Event.png
END:VEVENT
END:VCALENDAR